

BEGIN:VCALENDAR
VERSION:2.0
PRODID:-//hacksw/handcal//NONSGML v1.0//EN
CALSCALE:GREGORIAN
BEGIN:VEVENT
DTEND:20181101T213000
UID:69eba41cd369d
DTSTAMP:20260425T031052
LOCATION:Box Hill Town Hall 1022 Whitehorse Road Box Hill 3128 VIC
DESCRIPTION:First Chance To View And Purchase The Artwork!
Join us to celebrate our 55th Box Hill Rotary Whitehorse Art Show.
Opening night will be on Wednesday 30 October&nbsp\;2019 from 6pm&ndash\;9.30pm.
Gala evening atmosphere\, 3 course dinner will be served with wines and soft drinks available.
Preview and purchase artworks prior to opening to the public.
See presentation of all Art Show awards to winning artists.
Entry $75 per person\; tickets to be purchased here online from 1 July 2019 (until midnight Sunday 28 October)
A Grand Scale &lsquo\;Silent Auction&rsquo\; will be a feature of the evening.
Please contact Simon Wheelton&nbsp\;for further details.
URL;VALUE=URI:http://whitehorseartshow.com.au/event/40510
SUMMARY:Gala Opening Dinner Night (Copy)
DTSTART:20181101T180000
END:VEVENT
END:VCALENDAR

