

BEGIN:VCALENDAR
VERSION:2.0
PRODID:-//hacksw/handcal//NONSGML v1.0//EN
CALSCALE:GREGORIAN
BEGIN:VEVENT
DTEND:20241023T223000
UID:69ebb35442a01
DTSTAMP:20260425T041548
LOCATION:Box Hill Town Hall 1022 Whitehorse Rd Box Hill 3128 VIC
DESCRIPTION:Members enter "Promotion Code"&nbsp\; to receive discounted price.
URL;VALUE=URI:http://whitehorseartshow.com.au/event/56056
SUMMARY:2024 Whitehorse Art Show Gala Opening Night Dinner
DTSTART:20241023T180000
END:VEVENT
END:VCALENDAR

